BEGIN:VCALENDAR
VERSION:2.0
PRODID:-//Marrum Online - ECPv6.15.17.1//NONSGML v1.0//EN
CALSCALE:GREGORIAN
METHOD:PUBLISH
X-WR-CALNAME:Marrum Online
X-ORIGINAL-URL:https://marrumonline.nl
X-WR-CALDESC:Evenementen voor Marrum Online
REFRESH-INTERVAL;VALUE=DURATION:PT1H
X-Robots-Tag:noindex
X-PUBLISHED-TTL:PT1H
BEGIN:VTIMEZONE
TZID:Europe/Amsterdam
BEGIN:DAYLIGHT
TZOFFSETFROM:+0100
TZOFFSETTO:+0200
TZNAME:CEST
DTSTART:20250330T010000
END:DAYLIGHT
BEGIN:STANDARD
TZOFFSETFROM:+0200
TZOFFSETTO:+0100
TZNAME:CET
DTSTART:20251026T010000
END:STANDARD
BEGIN:DAYLIGHT
TZOFFSETFROM:+0100
TZOFFSETTO:+0200
TZNAME:CEST
DTSTART:20260329T010000
END:DAYLIGHT
BEGIN:STANDARD
TZOFFSETFROM:+0200
TZOFFSETTO:+0100
TZNAME:CET
DTSTART:20261025T010000
END:STANDARD
BEGIN:DAYLIGHT
TZOFFSETFROM:+0100
TZOFFSETTO:+0200
TZNAME:CEST
DTSTART:20270328T010000
END:DAYLIGHT
BEGIN:STANDARD
TZOFFSETFROM:+0200
TZOFFSETTO:+0100
TZNAME:CET
DTSTART:20271031T010000
END:STANDARD
END:VTIMEZONE
BEGIN:VEVENT
DTSTART;TZID=Europe/Amsterdam:20261101T110000
DTEND;TZID=Europe/Amsterdam:20261101T120000
DTSTAMP:20260423T205448
CREATED:20260408T165852Z
LAST-MODIFIED:20260408T172111Z
UID:530-1793530800-1793534400@marrumonline.nl
SUMMARY:Themadienst gospel God Unlimited
DESCRIPTION:Themadienst met gospelkoor God Unlimited uit Marrum o.l.v. Gerda Roorda.
URL:https://marrumonline.nl/evenement/themadienst-gospel-god-unlimited/
END:VEVENT
BEGIN:VEVENT
DTSTART;TZID=Europe/Amsterdam:20261104T140000
DTEND;TZID=Europe/Amsterdam:20261104T160000
DTSTAMP:20260423T205448
CREATED:20260408T213750Z
LAST-MODIFIED:20260408T213750Z
UID:545-1793800800-1793808000@marrumonline.nl
SUMMARY:Voedselbankactie
DESCRIPTION:Op dankdag halen basisschoolkinderen samen met de kerk producten op voor de Voedselbank.
URL:https://marrumonline.nl/evenement/voedselbankactie/
LOCATION:huis aan huis
END:VEVENT
BEGIN:VEVENT
DTSTART;TZID=Europe/Amsterdam:20261104T193000
DTEND;TZID=Europe/Amsterdam:20261104T193000
DTSTAMP:20260423T205448
CREATED:20260420T074217Z
LAST-MODIFIED:20260420T075021Z
UID:3219-1793820600-1793820600@marrumonline.nl
SUMMARY:Dankdienst in de Godeharduskerk
DESCRIPTION:19:30 uur dienst i.v.m. Dankdag voor Gewas en Arbeid in de Godeharduskerk.
URL:https://marrumonline.nl/evenement/dankdienst-in-de-godeharduskerk/
LOCATION:Godeharduskerk
CATEGORIES:Kerk | Dienst
ATTACH;FMTTYPE=image/png:https://marrumonline.nl/wp-content/uploads/2026/04/Logo_PKN_Marrum_Westernijtsjerk_web-1.png
END:VEVENT
BEGIN:VEVENT
DTSTART;TZID=Europe/Amsterdam:20261104T193000
DTEND;TZID=Europe/Amsterdam:20261104T203000
DTSTAMP:20260423T205448
CREATED:20260408T213503Z
LAST-MODIFIED:20260408T213503Z
UID:543-1793820600-1793824200@marrumonline.nl
SUMMARY:Dankdag- kerkdienst
DESCRIPTION:Dankdag voor gewas en arbeid.
URL:https://marrumonline.nl/evenement/dankdag-kerkdienst/
END:VEVENT
BEGIN:VEVENT
DTSTART;TZID=Europe/Amsterdam:20261120T190000
DTEND;TZID=Europe/Amsterdam:20261120T190000
DTSTAMP:20260423T205448
CREATED:20260420T074217Z
LAST-MODIFIED:20260420T075021Z
UID:3220-1795201200-1795201200@marrumonline.nl
SUMMARY:Verhalenavond 2026
DESCRIPTION:
URL:https://marrumonline.nl/evenement/verhalenavond-2026-2/
CATEGORIES:Cultuur
END:VEVENT
BEGIN:VEVENT
DTSTART;TZID=Europe/Amsterdam:20261120T190000
DTEND;TZID=Europe/Amsterdam:20261120T233000
DTSTAMP:20260423T205448
CREATED:20260409T150225Z
LAST-MODIFIED:20260420T074837Z
UID:560-1795201200-1795217400@marrumonline.nl
SUMMARY:Verhalenavond 2026
DESCRIPTION:Thema: Paardenredding 2006. Vertellers: \nvoormalig melkveehouder Piet Osinga\nvoormalig dierenarts Marten de Vries \nInloop vanaf 19 uur.
URL:https://marrumonline.nl/evenement/verhalenavond-2026/
LOCATION:Doarpshûs De Nije Tille
ATTACH;FMTTYPE=image/png:https://marrumonline.nl/wp-content/uploads/2026/04/verhalenavond-2025-2.png
END:VEVENT
BEGIN:VEVENT
DTSTART;TZID=Europe/Amsterdam:20261125T200000
DTEND;TZID=Europe/Amsterdam:20261125T213000
DTSTAMP:20260423T205448
CREATED:20260409T143819Z
LAST-MODIFIED:20260409T143819Z
UID:555-1795636800-1795642200@marrumonline.nl
SUMMARY:Verenigingenoverleg
DESCRIPTION:
URL:https://marrumonline.nl/evenement/verenigingenoverleg-3/
LOCATION:Doarpshûs De Nije Tille
END:VEVENT
END:VCALENDAR