BEGIN:VCALENDAR
VERSION:2.0
PRODID:-//Marrum Online - ECPv6.15.17.1//NONSGML v1.0//EN
CALSCALE:GREGORIAN
METHOD:PUBLISH
X-WR-CALNAME:Marrum Online
X-ORIGINAL-URL:https://marrumonline.nl
X-WR-CALDESC:Evenementen voor Marrum Online
REFRESH-INTERVAL;VALUE=DURATION:PT1H
X-Robots-Tag:noindex
X-PUBLISHED-TTL:PT1H
BEGIN:VTIMEZONE
TZID:Europe/Amsterdam
BEGIN:DAYLIGHT
TZOFFSETFROM:+0100
TZOFFSETTO:+0200
TZNAME:CEST
DTSTART:20250330T010000
END:DAYLIGHT
BEGIN:STANDARD
TZOFFSETFROM:+0200
TZOFFSETTO:+0100
TZNAME:CET
DTSTART:20251026T010000
END:STANDARD
BEGIN:DAYLIGHT
TZOFFSETFROM:+0100
TZOFFSETTO:+0200
TZNAME:CEST
DTSTART:20260329T010000
END:DAYLIGHT
BEGIN:STANDARD
TZOFFSETFROM:+0200
TZOFFSETTO:+0100
TZNAME:CET
DTSTART:20261025T010000
END:STANDARD
BEGIN:DAYLIGHT
TZOFFSETFROM:+0100
TZOFFSETTO:+0200
TZNAME:CEST
DTSTART:20270328T010000
END:DAYLIGHT
BEGIN:STANDARD
TZOFFSETFROM:+0200
TZOFFSETTO:+0100
TZNAME:CET
DTSTART:20271031T010000
END:STANDARD
END:VTIMEZONE
BEGIN:VEVENT
DTSTART;TZID=Europe/Amsterdam:20260604T170000
DTEND;TZID=Europe/Amsterdam:20260606T200000
DTSTAMP:20260423T142355
CREATED:20260407T192249Z
LAST-MODIFIED:20260407T192719Z
UID:481-1780592400-1780776000@marrumonline.nl
SUMMARY:Familieweekend vv Marrum
DESCRIPTION:
URL:https://marrumonline.nl/evenement/familieweekend/
END:VEVENT
BEGIN:VEVENT
DTSTART;TZID=Europe/Amsterdam:20260618T000000
DTEND;TZID=Europe/Amsterdam:20260621T000000
DTSTAMP:20260423T142355
CREATED:20260420T074202Z
LAST-MODIFIED:20260420T075022Z
UID:3213-1781740800-1782000000@marrumonline.nl
SUMMARY:Dorpsfeest 2026
DESCRIPTION:
URL:https://marrumonline.nl/evenement/dorpsfeest-2026/
CATEGORIES:Dorp | Feest
ATTACH;FMTTYPE=image/jpeg:https://marrumonline.nl/wp-content/uploads/2026/04/279507185_2670843473059984_1688083128114097867_n.jpg
END:VEVENT
BEGIN:VEVENT
DTSTART;TZID=Europe/Amsterdam:20260619T000000
DTEND;TZID=Europe/Amsterdam:20260619T000000
DTSTAMP:20260423T142355
CREATED:20260420T074202Z
LAST-MODIFIED:20260420T075021Z
UID:3214-1781827200-1781827200@marrumonline.nl
SUMMARY:Feestkaatspartij
DESCRIPTION:Feestkaatspartij voor Marrumers en oud-Marrumers\, gehouden tijdens het jaarlijkse dorpsfeest.
URL:https://marrumonline.nl/evenement/feestkaatspartij/
CATEGORIES:Sport | Kaatsen
END:VEVENT
BEGIN:VEVENT
DTSTART;TZID=Europe/Amsterdam:20260621T153000
DTEND;TZID=Europe/Amsterdam:20260621T153000
DTSTAMP:20260423T142355
CREATED:20260420T074202Z
LAST-MODIFIED:20260420T075021Z
UID:3215-1782055800-1782055800@marrumonline.nl
SUMMARY:Tentdienst
DESCRIPTION:Themadienst ‘Natuurlijk’ m.m.v. Peter en Engbert. Peter & Engbert worden ook wel de ‘Friese Simon en Garfunkel’ genoemd door de sound van hun 2-stemmige zang begeleid op gitaar. Een dienst opgebouwd rond nummers van hun tweede CD ‘Natuurlijk’\, benaderd op drie manieren: ‘Natuurlijk’\, ‘Natuurlijk?’\, ‘Natuurlijk!’. Met ruim tien nummers\, mooie gedichten en overdenkingen\, samenzang en meezingers als slot.
URL:https://marrumonline.nl/evenement/tentdienst/
CATEGORIES:Kerk | Dienst
END:VEVENT
BEGIN:VEVENT
DTSTART;TZID=Europe/Amsterdam:20260624T200000
DTEND;TZID=Europe/Amsterdam:20260624T213000
DTSTAMP:20260423T142355
CREATED:20260409T143319Z
LAST-MODIFIED:20260409T143319Z
UID:551-1782331200-1782336600@marrumonline.nl
SUMMARY:Verenigingenoverleg
DESCRIPTION:
URL:https://marrumonline.nl/evenement/verenigingenoverleg/
LOCATION:Doarpshûs De Nije Tille
END:VEVENT
BEGIN:VEVENT
DTSTART;TZID=Europe/Amsterdam:20260627T160000
DTEND;TZID=Europe/Amsterdam:20260627T230000
DTSTAMP:20260423T142355
CREATED:20260407T192047Z
LAST-MODIFIED:20260407T193156Z
UID:475-1782576000-1782601200@marrumonline.nl
SUMMARY:Aaigoaien
DESCRIPTION:
URL:https://marrumonline.nl/evenement/aaigoaien/
LOCATION:Doarpshûs De Nije Tille
END:VEVENT
BEGIN:VEVENT
DTSTART;TZID=Europe/Amsterdam:20260628T000000
DTEND;TZID=Europe/Amsterdam:20260628T000000
DTSTAMP:20260423T142355
CREATED:20260420T074202Z
LAST-MODIFIED:20260420T075021Z
UID:3216-1782604800-1782604800@marrumonline.nl
SUMMARY:Ouder-kind kaatspartij
DESCRIPTION:Ouder-kind kaatspartij – alleen voor Marrumers – op sportpark Achterdyk.
URL:https://marrumonline.nl/evenement/ouder-kind-kaatspartij/
CATEGORIES:Sport | Kaatsen
END:VEVENT
BEGIN:VEVENT
DTSTART;TZID=Europe/Amsterdam:20260628T100000
DTEND;TZID=Europe/Amsterdam:20260628T110000
DTSTAMP:20260423T142355
CREATED:20260408T151958Z
LAST-MODIFIED:20260409T100257Z
UID:517-1782640800-1782644400@marrumonline.nl
SUMMARY:Zang- en muziekdienst
DESCRIPTION:Met de cantorij en diverse musici op blokfluit. Koffie & thee na afloop.
URL:https://marrumonline.nl/evenement/zang-en-muziekdienst/
LOCATION:Godeharduskerk
END:VEVENT
END:VCALENDAR