BEGIN:VCALENDAR
VERSION:2.0
PRODID:-//Marrum Online - ECPv6.15.17.1//NONSGML v1.0//EN
CALSCALE:GREGORIAN
METHOD:PUBLISH
X-WR-CALNAME:Marrum Online
X-ORIGINAL-URL:https://marrumonline.nl
X-WR-CALDESC:Evenementen voor Marrum Online
REFRESH-INTERVAL;VALUE=DURATION:PT1H
X-Robots-Tag:noindex
X-PUBLISHED-TTL:PT1H
BEGIN:VTIMEZONE
TZID:Europe/Amsterdam
BEGIN:DAYLIGHT
TZOFFSETFROM:+0100
TZOFFSETTO:+0200
TZNAME:CEST
DTSTART:20250330T010000
END:DAYLIGHT
BEGIN:STANDARD
TZOFFSETFROM:+0200
TZOFFSETTO:+0100
TZNAME:CET
DTSTART:20251026T010000
END:STANDARD
BEGIN:DAYLIGHT
TZOFFSETFROM:+0100
TZOFFSETTO:+0200
TZNAME:CEST
DTSTART:20260329T010000
END:DAYLIGHT
BEGIN:STANDARD
TZOFFSETFROM:+0200
TZOFFSETTO:+0100
TZNAME:CET
DTSTART:20261025T010000
END:STANDARD
BEGIN:DAYLIGHT
TZOFFSETFROM:+0100
TZOFFSETTO:+0200
TZNAME:CEST
DTSTART:20270328T010000
END:DAYLIGHT
BEGIN:STANDARD
TZOFFSETFROM:+0200
TZOFFSETTO:+0100
TZNAME:CET
DTSTART:20271031T010000
END:STANDARD
END:VTIMEZONE
BEGIN:VEVENT
DTSTART;TZID=Europe/Amsterdam:20260501T190000
DTEND;TZID=Europe/Amsterdam:20260501T190000
DTSTAMP:20260423T130825
CREATED:20260420T074200Z
LAST-MODIFIED:20260420T075022Z
UID:3207-1777662000-1777662000@marrumonline.nl
SUMMARY:Inzameling oud papier
DESCRIPTION:VV Marrum haalt ’s avonds in Marrum het oud papier op. Oud papier plaatst u op de stoep aan een openbare en doorgaande weg\, waar de ophalers met een kar gemakkelijk bij kunnen. Woont u aan een doodlopende straat of pad\, waar een kar moeilijk kan komen\, wilt u dan zo vriendelijk zijn hier rekening mee te houden? Om te voorkomen dat het wegwaait\, biedt u het papier en karton aan in dozen of u bindt het samen met touw. Maak het s.v.p. niet te zwaar en zet het bij regenachtig weer zo laat mogelijk bij de weg. Melk- en sappakken horen niet bij het oud papier.
URL:https://marrumonline.nl/evenement/inzameling-oud-papier/
CATEGORIES:Inzameling
END:VEVENT
BEGIN:VEVENT
DTSTART;TZID=Europe/Amsterdam:20260508T000000
DTEND;TZID=Europe/Amsterdam:20260508T000000
DTSTAMP:20260423T130825
CREATED:20260420T074201Z
LAST-MODIFIED:20260420T075022Z
UID:3208-1778198400-1778198400@marrumonline.nl
SUMMARY:Start kaatstrainingen jeugd
DESCRIPTION:De trainingen van het jeugdkaatsen gaan weer van start op sportpark Achterdyk.
URL:https://marrumonline.nl/evenement/start-kaatstrainingen-jeugd/
CATEGORIES:Sport | Kaatsen
END:VEVENT
BEGIN:VEVENT
DTSTART;TZID=Europe/Amsterdam:20260508T193000
DTEND;TZID=Europe/Amsterdam:20260510T140000
DTSTAMP:20260423T130825
CREATED:20260420T074201Z
LAST-MODIFIED:20260420T075022Z
UID:3209-1778268600-1778421600@marrumonline.nl
SUMMARY:Toanielferiening Marrum spilet 'Te Let'
DESCRIPTION:De toneelvereniging van Marrum speelt ‘Te Let’. Voorstellingen op vrijdag 8 mei (19:30)\, zaterdag 9 mei (19:30) en zondag 10 mei (14:00) in Dorpshuis De Nije Tille.
URL:https://marrumonline.nl/evenement/toanielferiening-marrum-spilet-te-let/
CATEGORIES:Cultuur | Theater
ATTACH;FMTTYPE=image/png:https://marrumonline.nl/wp-content/uploads/2026/04/toaniel2026-Marrum.png
END:VEVENT
BEGIN:VEVENT
DTSTART;TZID=Europe/Amsterdam:20260509T000000
DTEND;TZID=Europe/Amsterdam:20260509T000000
DTSTAMP:20260423T130825
CREATED:20260420T074201Z
LAST-MODIFIED:20260420T075022Z
UID:3210-1778284800-1778284800@marrumonline.nl
SUMMARY:Molendag
DESCRIPTION:Zaterdag 9 mei is nationale Molendag. Bij de molens die deze dag draaien bent u van harte welkom om een kijkje te nemen.
URL:https://marrumonline.nl/evenement/molendag/
CATEGORIES:Dorp | Cultuur
ATTACH;FMTTYPE=image/jpeg:https://marrumonline.nl/wp-content/uploads/2026/04/Phenix-5.jpg
END:VEVENT
BEGIN:VEVENT
DTSTART;TZID=Europe/Amsterdam:20260518T180000
DTEND;TZID=Europe/Amsterdam:20260521T170000
DTSTAMP:20260423T130825
CREATED:20260407T192902Z
LAST-MODIFIED:20260407T192902Z
UID:495-1779127200-1779382800@marrumonline.nl
SUMMARY:Wandelvierdaagse
DESCRIPTION:
URL:https://marrumonline.nl/evenement/wandelvierdaagse/
END:VEVENT
BEGIN:VEVENT
DTSTART;TZID=Europe/Amsterdam:20260525T000000
DTEND;TZID=Europe/Amsterdam:20260525T000000
DTSTAMP:20260423T130825
CREATED:20260420T074201Z
LAST-MODIFIED:20260420T075022Z
UID:3211-1779667200-1779667200@marrumonline.nl
SUMMARY:FietsElfstedentocht
DESCRIPTION:Pinkstermaandag is de FietsElfstedentocht! ’s Ochtends (tussen ca. 7 en 11 uur) komen de fietsers door of langs Marrum. Gaat u ze ook aanmoedigen? Woont u aan de route of moet u die ochtend van huis\, houd dan a.u.b. rekening met de verkeersmaatregelen en volg eventuele aanwijzingen van vrijwillige verkeersregelaars\, zodat de deelnemende fietsers veilig door ons dorp kunnen gaan.
URL:https://marrumonline.nl/evenement/fietselfstedentocht/
CATEGORIES:Sport | Fietsen
ATTACH;FMTTYPE=image/jpeg:https://marrumonline.nl/wp-content/uploads/2026/04/fietselfstedentocht-route-marrum600x440.jpg
END:VEVENT
BEGIN:VEVENT
DTSTART;TZID=Europe/Amsterdam:20260531T000000
DTEND;TZID=Europe/Amsterdam:20260531T000000
DTSTAMP:20260423T130825
CREATED:20260420T074202Z
LAST-MODIFIED:20260420T075022Z
UID:3212-1780185600-1780185600@marrumonline.nl
SUMMARY:Arjen Berg Transport jeugdkaatspartij
DESCRIPTION:Arjen Berg Jeugdkaatspartij op sportpark Achterdyk in Marrum.
URL:https://marrumonline.nl/evenement/arjen-berg-transport-jeugdkaatspartij/
CATEGORIES:Sport | Kaatsen
END:VEVENT
END:VCALENDAR