BEGIN:VCALENDAR
VERSION:2.0
PRODID:-//Marrum Online - ECPv6.15.17.1//NONSGML v1.0//EN
CALSCALE:GREGORIAN
METHOD:PUBLISH
X-WR-CALNAME:Marrum Online
X-ORIGINAL-URL:https://marrumonline.nl
X-WR-CALDESC:Evenementen voor Marrum Online
REFRESH-INTERVAL;VALUE=DURATION:PT1H
X-Robots-Tag:noindex
X-PUBLISHED-TTL:PT1H
BEGIN:VTIMEZONE
TZID:Europe/Amsterdam
BEGIN:DAYLIGHT
TZOFFSETFROM:+0100
TZOFFSETTO:+0200
TZNAME:CEST
DTSTART:20270328T010000
END:DAYLIGHT
BEGIN:STANDARD
TZOFFSETFROM:+0200
TZOFFSETTO:+0100
TZNAME:CET
DTSTART:20271031T010000
END:STANDARD
BEGIN:DAYLIGHT
TZOFFSETFROM:+0100
TZOFFSETTO:+0200
TZNAME:CEST
DTSTART:20280326T010000
END:DAYLIGHT
BEGIN:STANDARD
TZOFFSETFROM:+0200
TZOFFSETTO:+0100
TZNAME:CET
DTSTART:20281029T010000
END:STANDARD
BEGIN:DAYLIGHT
TZOFFSETFROM:+0100
TZOFFSETTO:+0200
TZNAME:CEST
DTSTART:20290325T010000
END:DAYLIGHT
BEGIN:STANDARD
TZOFFSETFROM:+0200
TZOFFSETTO:+0100
TZNAME:CET
DTSTART:20291028T010000
END:STANDARD
END:VTIMEZONE
BEGIN:VEVENT
DTSTART;TZID=Europe/Amsterdam:20281230T083000
DTEND;TZID=Europe/Amsterdam:20281230T130000
DTSTAMP:20260423T205825
CREATED:20260420T074232Z
LAST-MODIFIED:20260420T075021Z
UID:3223-1861777800-1861794000@marrumonline.nl
SUMMARY:Oliebollenverkoop door Marrumers voor Marrumers
DESCRIPTION:Het O(liebollen)-team van Marrum/Westernijtsjerk bakt ze weer bruin: heerlijke oliebollen en krentenbollen. Verkrijgbaar in dorpshuis De Nije Tille\, zolang de voorraad strekt. Tevens verkoop bij Supermarkt Faber Marrum. De opbrengst is bestemd voor diverse goede doelen in Marrum!
URL:https://marrumonline.nl/evenement/oliebollenverkoop-door-marrumers-voor-marrumers-3/
CATEGORIES:Dorp | Feest
END:VEVENT
END:VCALENDAR