BEGIN:VCALENDAR
VERSION:2.0
PRODID:-//Marrum Online - ECPv6.15.17.1//NONSGML v1.0//EN
CALSCALE:GREGORIAN
METHOD:PUBLISH
X-WR-CALNAME:Marrum Online
X-ORIGINAL-URL:https://marrumonline.nl
X-WR-CALDESC:Evenementen voor Marrum Online
REFRESH-INTERVAL;VALUE=DURATION:PT1H
X-Robots-Tag:noindex
X-PUBLISHED-TTL:PT1H
BEGIN:VTIMEZONE
TZID:Europe/Amsterdam
BEGIN:DAYLIGHT
TZOFFSETFROM:+0100
TZOFFSETTO:+0200
TZNAME:CEST
DTSTART:20250330T010000
END:DAYLIGHT
BEGIN:STANDARD
TZOFFSETFROM:+0200
TZOFFSETTO:+0100
TZNAME:CET
DTSTART:20251026T010000
END:STANDARD
BEGIN:DAYLIGHT
TZOFFSETFROM:+0100
TZOFFSETTO:+0200
TZNAME:CEST
DTSTART:20260329T010000
END:DAYLIGHT
BEGIN:STANDARD
TZOFFSETFROM:+0200
TZOFFSETTO:+0100
TZNAME:CET
DTSTART:20261025T010000
END:STANDARD
BEGIN:DAYLIGHT
TZOFFSETFROM:+0100
TZOFFSETTO:+0200
TZNAME:CEST
DTSTART:20270328T010000
END:DAYLIGHT
BEGIN:STANDARD
TZOFFSETFROM:+0200
TZOFFSETTO:+0100
TZNAME:CET
DTSTART:20271031T010000
END:STANDARD
END:VTIMEZONE
BEGIN:VEVENT
DTSTART;TZID=Europe/Amsterdam:20260508T000000
DTEND;TZID=Europe/Amsterdam:20260508T000000
DTSTAMP:20260423T124933
CREATED:20260420T074201Z
LAST-MODIFIED:20260420T075022Z
UID:3208-1778198400-1778198400@marrumonline.nl
SUMMARY:Start kaatstrainingen jeugd
DESCRIPTION:De trainingen van het jeugdkaatsen gaan weer van start op sportpark Achterdyk.
URL:https://marrumonline.nl/evenement/start-kaatstrainingen-jeugd/
CATEGORIES:Sport | Kaatsen
END:VEVENT
BEGIN:VEVENT
DTSTART;TZID=Europe/Amsterdam:20260531T000000
DTEND;TZID=Europe/Amsterdam:20260531T000000
DTSTAMP:20260423T124933
CREATED:20260420T074202Z
LAST-MODIFIED:20260420T075022Z
UID:3212-1780185600-1780185600@marrumonline.nl
SUMMARY:Arjen Berg Transport jeugdkaatspartij
DESCRIPTION:Arjen Berg Jeugdkaatspartij op sportpark Achterdyk in Marrum.
URL:https://marrumonline.nl/evenement/arjen-berg-transport-jeugdkaatspartij/
CATEGORIES:Sport | Kaatsen
END:VEVENT
BEGIN:VEVENT
DTSTART;TZID=Europe/Amsterdam:20260619T000000
DTEND;TZID=Europe/Amsterdam:20260619T000000
DTSTAMP:20260423T124933
CREATED:20260420T074202Z
LAST-MODIFIED:20260420T075021Z
UID:3214-1781827200-1781827200@marrumonline.nl
SUMMARY:Feestkaatspartij
DESCRIPTION:Feestkaatspartij voor Marrumers en oud-Marrumers\, gehouden tijdens het jaarlijkse dorpsfeest.
URL:https://marrumonline.nl/evenement/feestkaatspartij/
CATEGORIES:Sport | Kaatsen
END:VEVENT
BEGIN:VEVENT
DTSTART;TZID=Europe/Amsterdam:20260628T000000
DTEND;TZID=Europe/Amsterdam:20260628T000000
DTSTAMP:20260423T124933
CREATED:20260420T074202Z
LAST-MODIFIED:20260420T075021Z
UID:3216-1782604800-1782604800@marrumonline.nl
SUMMARY:Ouder-kind kaatspartij
DESCRIPTION:Ouder-kind kaatspartij – alleen voor Marrumers – op sportpark Achterdyk.
URL:https://marrumonline.nl/evenement/ouder-kind-kaatspartij/
CATEGORIES:Sport | Kaatsen
END:VEVENT
BEGIN:VEVENT
DTSTART;TZID=Europe/Amsterdam:20260906T000000
DTEND;TZID=Europe/Amsterdam:20260906T000000
DTSTAMP:20260423T124933
CREATED:20260420T074217Z
LAST-MODIFIED:20260420T075021Z
UID:3218-1788652800-1788652800@marrumonline.nl
SUMMARY:Bouma jeugdkaatspartij
DESCRIPTION:Kaatspartij voor de jeugd\, bekend als de Bouma kaatspartij\, op sportpark Achterdyk in Marrum.
URL:https://marrumonline.nl/evenement/bouma-jeugdkaatspartij/
CATEGORIES:Sport | Kaatsen
END:VEVENT
END:VCALENDAR