BEGIN:VCALENDAR
VERSION:2.0
PRODID:-//Marrum Online - ECPv6.15.17.1//NONSGML v1.0//EN
CALSCALE:GREGORIAN
METHOD:PUBLISH
X-WR-CALNAME:Marrum Online
X-ORIGINAL-URL:https://marrumonline.nl
X-WR-CALDESC:Evenementen voor Marrum Online
REFRESH-INTERVAL;VALUE=DURATION:PT1H
X-Robots-Tag:noindex
X-PUBLISHED-TTL:PT1H
BEGIN:VTIMEZONE
TZID:Europe/Amsterdam
BEGIN:DAYLIGHT
TZOFFSETFROM:+0100
TZOFFSETTO:+0200
TZNAME:CEST
DTSTART:20250330T010000
END:DAYLIGHT
BEGIN:STANDARD
TZOFFSETFROM:+0200
TZOFFSETTO:+0100
TZNAME:CET
DTSTART:20251026T010000
END:STANDARD
BEGIN:DAYLIGHT
TZOFFSETFROM:+0100
TZOFFSETTO:+0200
TZNAME:CEST
DTSTART:20260329T010000
END:DAYLIGHT
BEGIN:STANDARD
TZOFFSETFROM:+0200
TZOFFSETTO:+0100
TZNAME:CET
DTSTART:20261025T010000
END:STANDARD
BEGIN:DAYLIGHT
TZOFFSETFROM:+0100
TZOFFSETTO:+0200
TZNAME:CEST
DTSTART:20270328T010000
END:DAYLIGHT
BEGIN:STANDARD
TZOFFSETFROM:+0200
TZOFFSETTO:+0100
TZNAME:CET
DTSTART:20271031T010000
END:STANDARD
END:VTIMEZONE
BEGIN:VEVENT
DTSTART;TZID=Europe/Amsterdam:20260501T190000
DTEND;TZID=Europe/Amsterdam:20260501T190000
DTSTAMP:20260423T124757
CREATED:20260420T074200Z
LAST-MODIFIED:20260420T075022Z
UID:3207-1777662000-1777662000@marrumonline.nl
SUMMARY:Inzameling oud papier
DESCRIPTION:VV Marrum haalt ’s avonds in Marrum het oud papier op. Oud papier plaatst u op de stoep aan een openbare en doorgaande weg\, waar de ophalers met een kar gemakkelijk bij kunnen. Woont u aan een doodlopende straat of pad\, waar een kar moeilijk kan komen\, wilt u dan zo vriendelijk zijn hier rekening mee te houden? Om te voorkomen dat het wegwaait\, biedt u het papier en karton aan in dozen of u bindt het samen met touw. Maak het s.v.p. niet te zwaar en zet het bij regenachtig weer zo laat mogelijk bij de weg. Melk- en sappakken horen niet bij het oud papier.
URL:https://marrumonline.nl/evenement/inzameling-oud-papier/
CATEGORIES:Inzameling
END:VEVENT
END:VCALENDAR