BEGIN:VCALENDAR
VERSION:2.0
PRODID:-//Marrum Online - ECPv6.15.17.1//NONSGML v1.0//EN
CALSCALE:GREGORIAN
METHOD:PUBLISH
X-ORIGINAL-URL:https://marrumonline.nl
X-WR-CALDESC:Evenementen voor Marrum Online
REFRESH-INTERVAL;VALUE=DURATION:PT1H
X-Robots-Tag:noindex
X-PUBLISHED-TTL:PT1H
BEGIN:VTIMEZONE
TZID:Europe/Amsterdam
BEGIN:DAYLIGHT
TZOFFSETFROM:+0100
TZOFFSETTO:+0200
TZNAME:CEST
DTSTART:20250330T010000
END:DAYLIGHT
BEGIN:STANDARD
TZOFFSETFROM:+0200
TZOFFSETTO:+0100
TZNAME:CET
DTSTART:20251026T010000
END:STANDARD
BEGIN:DAYLIGHT
TZOFFSETFROM:+0100
TZOFFSETTO:+0200
TZNAME:CEST
DTSTART:20260329T010000
END:DAYLIGHT
BEGIN:STANDARD
TZOFFSETFROM:+0200
TZOFFSETTO:+0100
TZNAME:CET
DTSTART:20261025T010000
END:STANDARD
BEGIN:DAYLIGHT
TZOFFSETFROM:+0100
TZOFFSETTO:+0200
TZNAME:CEST
DTSTART:20270328T010000
END:DAYLIGHT
BEGIN:STANDARD
TZOFFSETFROM:+0200
TZOFFSETTO:+0100
TZNAME:CET
DTSTART:20271031T010000
END:STANDARD
END:VTIMEZONE
BEGIN:VEVENT
DTSTART;TZID=Europe/Amsterdam:20260417T200000
DTEND;TZID=Europe/Amsterdam:20260417T213000
DTSTAMP:20260423T130824
CREATED:20260408T170439Z
LAST-MODIFIED:20260421T192605Z
UID:532-1776456000-1776461400@marrumonline.nl
SUMMARY:Theatervoorstelling Joris Linssen
DESCRIPTION:De kerken op ‘e Klaai organiseren een theatervoorstelling in It Spektrum Burdaard. In de theaterzaal is de muzikale voorstelling Lieve Hemel van Joris Linssen. Tickets via www.theaterlievehemel.nl
URL:https://marrumonline.nl/evenement/theatervoorstelling-joris-linssen/
LOCATION:It Spektrum Burdaard\, Burdaard
END:VEVENT
END:VCALENDAR